BEGIN:VCALENDAR
VERSION:2.0
PRODID:-//Kik&ouml;tő Tapolca - ECPv6.15.20//NONSGML v1.0//EN
CALSCALE:GREGORIAN
METHOD:PUBLISH
X-WR-CALNAME:Kik&ouml;tő Tapolca
X-ORIGINAL-URL:https://kikototapolca.hu
X-WR-CALDESC:Események Kik&ouml;tő Tapolca
REFRESH-INTERVAL;VALUE=DURATION:PT1H
X-Robots-Tag:noindex
X-PUBLISHED-TTL:PT1H
BEGIN:VTIMEZONE
TZID:Europe/Paris
BEGIN:DAYLIGHT
TZOFFSETFROM:+0100
TZOFFSETTO:+0200
TZNAME:CEST
DTSTART:20230326T010000
END:DAYLIGHT
BEGIN:STANDARD
TZOFFSETFROM:+0200
TZOFFSETTO:+0100
TZNAME:CET
DTSTART:20231029T010000
END:STANDARD
BEGIN:DAYLIGHT
TZOFFSETFROM:+0100
TZOFFSETTO:+0200
TZNAME:CEST
DTSTART:20240331T010000
END:DAYLIGHT
BEGIN:STANDARD
TZOFFSETFROM:+0200
TZOFFSETTO:+0100
TZNAME:CET
DTSTART:20241027T010000
END:STANDARD
BEGIN:DAYLIGHT
TZOFFSETFROM:+0100
TZOFFSETTO:+0200
TZNAME:CEST
DTSTART:20250330T010000
END:DAYLIGHT
BEGIN:STANDARD
TZOFFSETFROM:+0200
TZOFFSETTO:+0100
TZNAME:CET
DTSTART:20251026T010000
END:STANDARD
END:VTIMEZONE
BEGIN:VTIMEZONE
TZID:UTC
BEGIN:STANDARD
TZOFFSETFROM:+0000
TZOFFSETTO:+0000
TZNAME:UTC
DTSTART:20230101T000000
END:STANDARD
END:VTIMEZONE
BEGIN:VEVENT
DTSTART;VALUE=DATE:20241213
DTEND;VALUE=DATE:20241214
DTSTAMP:20260422T161622
CREATED:20241114T075528Z
LAST-MODIFIED:20241215T054109Z
UID:18282-1734048000-1734134399@kikototapolca.hu
SUMMARY:„Árnyékszeretgető” Önismereti Nap Zentai Annával - betelt
DESCRIPTION:Az önismereti nap lényege\, hogy abban a helyzetben\, amiben vagy\, előrelépéshez\, megoldáshoz segítsen. Eddig minden programom a tanításról szólt\, tudásátadásról\, információk közléséről\, módszerek\, eszközök átadásáról. De azt látom\, hogy nagy szükség van arra is\, hogy konkrétan a gyakorlatban végezzük azt\, amit kell\, hiszen változás csak akkor lesz\, ha a tettek mezejére lépünk! \nEz a nap egyesít magában több önfejlesztő és oldási módszert. Úgy van összerakva\, hogy egyetlen kerek\, egész folyamaton megyünk végig. Maga az önismereti nap tehát egy nagy egész\, ami különböző gyakorlatsorokból áll össze. Ezért fontos\, hogy ha jelentkezel\, akkor erre a napra semmi mást ne tervezz és az elejétől a végéig jelen légy\, mert csak így tudod ezt a napot elvégezni! Később érkezni és hamarabb elmenni innen nem lehet. \nA kezdés általában 10:00 és a zárás kb. 16:30. Ettől eltérő időtartam is lehetséges időnként\, vagy megbeszélés szerint. \nA részvétel díj 16.000.- (a Tarot lapja a 16-os\, a Torony\, aminek energiájában a régi rendszer leomlik\, hogy a tiszta alapokra új épüljön.) \nDecember 13-án pénteken\, Luca napján\, egy igazán mágikus időben dolgozunk most magunkon\, hogy felszínre hozzuk és átöleljük\, megszeressük magunkban mindazt\, ami árnyékban volt.\nA maximális létszám: 16 fő.\nA nap folyamán segítségünkre lesz egy különleges önismereti kártyacsomag\, a Bölcsességőrzők kártya (lásd a képen)\, ami a 64 génkulcs alapján készült. Támogatni fogják a folyamatainkat különböző virágesszenciák (nem csak Bach cseppek\, hanem az általam készített növényi medicinákés aurapermetek is)\, illetve esszenciális illóolajak. Ezeket tetszés szerint lehet használni\, nem kötelező\, de sokat ad az oldásokhoz\, a gyógyulásokhoz. \nEzen kívül egy csillagállítás\, vagy rendszerállítás is része a folyamatnak\, illetve a nap végén egy\, a mélytudatban megtalált elakadás kioldását segítő meditációval zárjuk ezt a folyamatot. \nA gyakorlatok során kis csoportos\, páros és egyéni gyakorlatok is lesznek. Füzetet és tollat kell hozni\, mert több írásos gyakorlatot is végzünk. \nSzeretettel várlak\, ha megszólított ez a lehetőség! \nAnna \nJelentkezni a csillagprogramok@gmail.com címen lehet\, egy teljes név és egy számlázási cím megadásával. \n  \nEz a program több helyszínen is elérhető\, részletekért és Anna további programjaiért keresd fel a honlapját: zentaianna.hu  \n  \n“Árnyékszeretgető” Önismereti Nap – részletek
URL:https://kikototapolca.hu/event/arnyekszeretgeto-onismereti-nap-zentai-annaval/
LOCATION:Kikötő\, Deák Ferenc utca 9.\, Tapolca\, Hungary
CATEGORIES:önismeret
ATTACH;FMTTYPE=image/jpeg:https://kikototapolca.hu/wp-content/uploads/2024/11/Kikoto-Fb-poszt-2024-okt-2.jpg
END:VEVENT
BEGIN:VEVENT
DTSTART;TZID=Europe/Paris:20240510T130000
DTEND;TZID=Europe/Paris:20240510T150000
DTSTAMP:20260422T161622
CREATED:20240429T172657Z
LAST-MODIFIED:20240429T174207Z
UID:17674-1715346000-1715353200@kikototapolca.hu
SUMMARY:Mandalafestés - önismereti program Lakatos Zsuzsával
DESCRIPTION:A mandala\, az én mandalám lehet az énem tükörképe.  Megmutathatja hol vagyok  most\, milyen erőforrások rejlenek bennem és mi mindent tudnék még megvalósítani. Lehet az énrészek megörökítője\, ahol minden énrészemnek helye van\, láthatóvá válik sokféleségem.\n\nAz önmegismerés végtelen folyamatának egy kis állomására hívlak\, ahol testi érzeteink és szavaink színben\, formában\, jelképekben\, szimbólumokban\, számokban\, terekben vagy éppen az ürességben mutatkozhatnak meg.\n\nMi várható?\nBelenézünk a tükörbe\, talán most más módon látjuk magunkat. Talán észreveszünk valamit\, amit eddig nem\, vagy pont fordítva\, már nem látjuk azt\, amit eddig láttunk.\nbefelé irányítjuk a figyelmünket Gendlin Fókuszolás módszerével\, hogy onnan elindulva tartsunk tükröt – a jungi önfelfedezés eszközével-  útjelző szavainkkal önmagunknak. Majd mindezt  mandalává varázsoljuk. És mivel a mandala kör\,  mozgásban is kifejezzük magunkat\, saját körtáncunkkal.\n\nHa van olyan szín\, vagy felület\, amire alkotni szeretnél azt elhozhatod\, ezen felül eszközöket biztosítunk.\n\nA program felnőtteknek szól\, és Kikötő Majális hetijeggyel látogatható.\nAlkalmi jegy: 2.500 Ft\n\nBejelentkezés:
URL:https://kikototapolca.hu/event/mandalafestes-onismereti-program-lakatos-zsuzsaval/
LOCATION:Kikötő\, Deák Ferenc utca 9.\, Tapolca\, Hungary
CATEGORIES:alkotó műhely,önismeret
ATTACH;FMTTYPE=image/jpeg:https://kikototapolca.hu/wp-content/uploads/2024/04/Kikoto-Fb-marcius-22-1.jpg
ORGANIZER;CN="Lakatos Zsuzsa":MAILTO:z.lakatos@gmail.com
END:VEVENT
BEGIN:VEVENT
DTSTART;TZID=UTC:20240131T170000
DTEND;TZID=UTC:20240131T190000
DTSTAMP:20260422T161622
CREATED:20231223T112418Z
LAST-MODIFIED:20231231T145806Z
UID:16197-1706720400-1706727600@kikototapolca.hu
SUMMARY:Fókuszban a belső biztonság
DESCRIPTION:BEVEZETŐ ÖNISMERETI PROGRAM\n4 alkalmas sorozat\, 2024. január 31-től szerdánként 17:00-19:00 között \nEgy olyan önismereti programsorozatot tervezünk indítani\, ami szisztematikusan visz végig különböző témákon és kiemelt életterületeken.\nMindegyik alapja a BELSŐ BIZTONSÁG.\nEzért ez a 4 alkalmas program a feltétele\, hogy részt vehess a későbbi csoportokon. \nHogyan kezdünk hozzá?\nKezdjük a stabilitással: éld meg minden nap a belső biztonságod erejét\nIntenzív élmény- és testorientált önismereti munka vár Rád.\nA program élménye megmozgatja a megnyilvánuló és rejtett erőidet és stabil alapot adhat a további fejlődésedhez. \nMilyen eszközt használunk?\nFókuszARTCoaching módszertannal dolgozunk.\nÖsszehozzuk az élményt az eredménnyel. Elsősorban az Eugene T. Gendlin Amerikában élő osztrák származású pszichoterapeuta nevéhez köthető fókusz-módszert alkalmazzuk\, ezt egészíti ki a coachingpszichológiai szemlélet.\nA program szemlélete elfogadásra\, empátiára\, megengedésre épít\, ítéletmentes\, jelen és jövőfókuszú\, megoldásorientált szemléletű\, elkötelezett a változás és a belső erőforrások elismerése iránt. \nMiben indít el a program?\n\nSzabad teret adhatsz magadban a biztonságos terednek\nSegít fejleszteni a testi jelenlétet\, testtudatosságodat\, megérteni magadat\nNő az intuíciód\, az empátiád és az aktív önmagadra és másikra figyelés képessége\nFejlődik az önreflexiód\, önismereted\, az önértékelésed\, önszereteted\nSegít elfogadni\, elismerni önmagad\nTámogatja szemléletváltási képességed: a régi dolgok elengedésében\, új dolgok elfogadásában\nSegít csökkenteni a stresszt\nSegít elköteleződni a változást hozó célok és az azokat megvalósító lépések iránt\nÖnállóságra buzdít\, hogy önmagad is képes legyél használni a módszert további fejlődésedért\n\nHogyan dolgozunk?\nBelső figyelemmel\, mozgással\, alkotással\, együttléttel és a közösség erejével. \nRöviden a fókuszolásról:\nMinden pillanatban reagálunk. Mindent megélünk felmerülő érzéseinkben\, gondolatainkban és testi szinten is\, még akkor is\, ha ennek nem vagyunk tudatában. A test mindent elraktároz\, így a lelki helyzetmegértés kulcsát rejti\, amely akkor nyitja ki a zárakat\, ha megtanulunk azokra figyelni. Ennek eszköze a befelé fordított figyelem\, ekkor elindul a testünkkel a kommunikáció\, lehetővé válik zsigeri megérzéseink tudatosítása\, így a testi szinten  – saját\, illetve akár kollektív emlékeink –  raktározott lenyomatai elérhetővé és ezzel érthetővé\, feldogozhatóvá válnak\, lehetővé válhat\, hogy akadály helyett erőforrásként szolgáljanak. \nRöviden a coaching pszichológiáról:\nSegít megtanulni\, hogyan változtassunk önmagunk viselkedésünkön\, gondolkodásunkon\, hogy céljainkat sikeresebben érjük el. Megoldás és eredményközpontú folyamat\, aktívan arra serkent\, hogy tanuljunk magunkról\, illetve igényt is termet arra\, hogy még többet tanuljunk és\, hogy kibontsuk a bennünk rejlő lehetőségeket. \nA programot vezeti:\nA programot vezeti Lakatos Zsuzsanna tanácsadó szakpszichológus\, coachingpszichológus és fókuszolásorientált terapeuta. \nA tréning időpontja:\n\n2024. január 31.\, február 7. 14. 21.\nszerdánként 17:00-19:00\n\nHelyszín:                           \n\nKikötő\, Tapolca – Fő tér 6-8.\n\nRészvételi díj:                   \n\n4 alkalom\, alkalmanként 7.000 Ft / 2 óra\nBevezető áron 42.000 Ft helyett most 28.000 Ft-ért vehetsz részt a programon.\n\nA csoportól:\n\nA csoport létszáma min. 4 max. 10 fő.\nA csoportba való bekerülést rövid beszélgetés előzi meg (személyes vagy on-line).\n\nJelentkezés:\n\n✉ e-mailben Lakatos Zsuzsánál január 22-ig a z.lakatos@gmail.com e-mail címen.
URL:https://kikototapolca.hu/event/fokuszban-a-belso-biztonsag/
CATEGORIES:önismeret
ATTACH;FMTTYPE=image/jpeg:https://kikototapolca.hu/wp-content/uploads/2023/12/Kikoto-programok-9.jpg
ORGANIZER;CN="Lakatos Zsuzsa":MAILTO:z.lakatos@gmail.com
END:VEVENT
END:VCALENDAR