BEGIN:VCALENDAR
VERSION:2.0
PRODID:-//Kik&ouml;tő Tapolca - ECPv6.15.20//NONSGML v1.0//EN
CALSCALE:GREGORIAN
METHOD:PUBLISH
X-ORIGINAL-URL:https://kikototapolca.hu
X-WR-CALDESC:Események Kik&ouml;tő Tapolca
REFRESH-INTERVAL;VALUE=DURATION:PT1H
X-Robots-Tag:noindex
X-PUBLISHED-TTL:PT1H
BEGIN:VTIMEZONE
TZID:Europe/Paris
BEGIN:DAYLIGHT
TZOFFSETFROM:+0100
TZOFFSETTO:+0200
TZNAME:CEST
DTSTART:20230326T010000
END:DAYLIGHT
BEGIN:STANDARD
TZOFFSETFROM:+0200
TZOFFSETTO:+0100
TZNAME:CET
DTSTART:20231029T010000
END:STANDARD
BEGIN:DAYLIGHT
TZOFFSETFROM:+0100
TZOFFSETTO:+0200
TZNAME:CEST
DTSTART:20240331T010000
END:DAYLIGHT
BEGIN:STANDARD
TZOFFSETFROM:+0200
TZOFFSETTO:+0100
TZNAME:CET
DTSTART:20241027T010000
END:STANDARD
BEGIN:DAYLIGHT
TZOFFSETFROM:+0100
TZOFFSETTO:+0200
TZNAME:CEST
DTSTART:20250330T010000
END:DAYLIGHT
BEGIN:STANDARD
TZOFFSETFROM:+0200
TZOFFSETTO:+0100
TZNAME:CET
DTSTART:20251026T010000
END:STANDARD
BEGIN:DAYLIGHT
TZOFFSETFROM:+0100
TZOFFSETTO:+0200
TZNAME:CEST
DTSTART:20260329T010000
END:DAYLIGHT
BEGIN:STANDARD
TZOFFSETFROM:+0200
TZOFFSETTO:+0100
TZNAME:CET
DTSTART:20261025T010000
END:STANDARD
END:VTIMEZONE
BEGIN:VEVENT
DTSTART;TZID=Europe/Paris:20250125T140000
DTEND;TZID=Europe/Paris:20250125T170000
DTSTAMP:20260420T162022
CREATED:20241129T070006Z
LAST-MODIFIED:20250123T155658Z
UID:18394-1737813600-1737824400@kikototapolca.hu
SUMMARY:Szakmai tréning: Tapasztalatszerzés\, új eszközök megismerése - díjmentes
DESCRIPTION:Egy szakmai délután\, ahol új eszközt tanulhatsz.\n\nFelnőttekkel\, főként fiatal és leendő szülőkkel kapcsolatba kerülő és velük foglalkozó SZAKEMBEREKET (pl. trénereket\, coachokat\, pedagógusokat\, védőnőket\, dúlákat\, pszichológusokat\, szociális területen dolgozókat) várunk a workshopra.\n\nSajátélményű gyakorlatokon keresztül új eszközök elsajátítására lesz lehetőség.\n\nVezeti: Lukács Gabriella és Katona Tünde Virág.\nA Holdkő Alapítvány „Szülőkké válunk” projektjét\, így ezt a workshopot is az Európai Unió támogatja. Mindenkit szívesen várunk\, az esemény díjtalan\, de regisztrációhoz kötött!Itt lehet jelentkezni:\nhttps://forms.gle/RS5gY9BKXrVY6wsv8
URL:https://kikototapolca.hu/event/szakmai-trening-tapasztalatszerzes-uj-eszkozok-megismerese-dijmentes/
LOCATION:Kikötő\, Deák Ferenc utca 9.\, Tapolca\, Hungary
CATEGORIES:tréning
ATTACH;FMTTYPE=image/jpeg:https://kikototapolca.hu/wp-content/uploads/2024/11/4-4.jpg
END:VEVENT
BEGIN:VEVENT
DTSTART;TZID=Europe/Paris:20250125T100000
DTEND;TZID=Europe/Paris:20250125T121500
DTSTAMP:20260420T162022
CREATED:20241129T064634Z
LAST-MODIFIED:20241215T044536Z
UID:18389-1737799200-1737807300@kikototapolca.hu
SUMMARY:Maradj önmagad! - Díjmentes workshop szülőknek és leendő szülőknek
DESCRIPTION:Milyen számunkra az „elég jó” szülő? Hogyan válhatunk azzá?\nHogyan maradhatunk önmagunk amellett\, hogy szülők lettünk?\nHogyan tartsuk meg a határainkat?\nMindezt hogyan kommunikáljuk a családunk felé?\n\nSZÜLŐKKEL ÉS LEENDŐ SZÜLŐKKEL gondolkodunk közösen\, főként interaktív gyakorlatokon jeresztül.\n\nVezeti: Lukács Gabriella és Katona Tünde Virág.\nA Holdkő Alapítvány „Szülőkké válunk” projektjét\, így ezt a workshopot is az Európai Unió támogatja. Mindenkit szívesen várunk\, az esemény díjtalan\, de regisztrációhoz kötött!Itt lehet jelentkezni:\nhttps://forms.gle/ibUkTY3VoWie7JKT8
URL:https://kikototapolca.hu/event/maradj-onmagad-dijmentes-workshop-szuloknek-es-leendo-szuloknek/
LOCATION:Kikötő\, Deák Ferenc utca 9.\, Tapolca\, Hungary
CATEGORIES:tréning
ATTACH;FMTTYPE=image/jpeg:https://kikototapolca.hu/wp-content/uploads/2024/11/JANUAR.jpg
END:VEVENT
BEGIN:VEVENT
DTSTART;TZID=Europe/Paris:20241215T150000
DTEND;TZID=Europe/Paris:20241215T163000
DTSTAMP:20260420T162022
CREATED:20241116T155409Z
LAST-MODIFIED:20241116T155645Z
UID:18342-1734274800-1734280200@kikototapolca.hu
SUMMARY:Adventi meditáció - ingyenes
DESCRIPTION:2024. december 15-én délután 15:00-kor találkozunk a Kikötőben egy adventi gyertyagyújtással egybekötött meditációra.  \nAz advent igazi lényege a várakozás\, annak a megélése és felfedezése\, ahogy bennünk megszületik a fény.\nErre hívunk ezen a délutánon: ahogy meggyújtjuk a 3. gyertyát a koszorún\, úgy figyeljük bennünk is a növekvő fényt. \nRövid átmozgatás\, légzés és relaxáció előzi meg a meditációnkat. \nA program ingyenes\, de regisztrációhoz kötött.\nVezeti: Ryszka Nóra jógaterapeuta \nSzeretettel várunk! \nBejelentkezés:
URL:https://kikototapolca.hu/event/adventi-meditacio-ingyenes/
LOCATION:Kikötő\, Deák Ferenc utca 9.\, Tapolca\, Hungary
CATEGORIES:meditáció
ATTACH;FMTTYPE=image/jpeg:https://kikototapolca.hu/wp-content/uploads/2024/11/Kikoto-Fb-poszt-2024-okt-3.jpg
ORGANIZER;CN="Ryszka N%C3%B3ra":MAILTO:hello@kikototapolca.hu
END:VEVENT
END:VCALENDAR