BEGIN:VCALENDAR
VERSION:2.0
PRODID:-//Kik&ouml;tő Tapolca - ECPv6.15.20//NONSGML v1.0//EN
CALSCALE:GREGORIAN
METHOD:PUBLISH
X-ORIGINAL-URL:https://kikototapolca.hu
X-WR-CALDESC:Események Kik&ouml;tő Tapolca
REFRESH-INTERVAL;VALUE=DURATION:PT1H
X-Robots-Tag:noindex
X-PUBLISHED-TTL:PT1H
BEGIN:VTIMEZONE
TZID:Europe/Paris
BEGIN:DAYLIGHT
TZOFFSETFROM:+0100
TZOFFSETTO:+0200
TZNAME:CEST
DTSTART:20240331T010000
END:DAYLIGHT
BEGIN:STANDARD
TZOFFSETFROM:+0200
TZOFFSETTO:+0100
TZNAME:CET
DTSTART:20241027T010000
END:STANDARD
BEGIN:DAYLIGHT
TZOFFSETFROM:+0100
TZOFFSETTO:+0200
TZNAME:CEST
DTSTART:20250330T010000
END:DAYLIGHT
BEGIN:STANDARD
TZOFFSETFROM:+0200
TZOFFSETTO:+0100
TZNAME:CET
DTSTART:20251026T010000
END:STANDARD
BEGIN:DAYLIGHT
TZOFFSETFROM:+0100
TZOFFSETTO:+0200
TZNAME:CEST
DTSTART:20260329T010000
END:DAYLIGHT
BEGIN:STANDARD
TZOFFSETFROM:+0200
TZOFFSETTO:+0100
TZNAME:CET
DTSTART:20261025T010000
END:STANDARD
END:VTIMEZONE
BEGIN:VEVENT
DTSTART;TZID=Europe/Paris:20250104T100000
DTEND;TZID=Europe/Paris:20250104T130000
DTSTAMP:20260420T180122
CREATED:20241205T091528Z
LAST-MODIFIED:20250106T093141Z
UID:18403-1735984800-1735995600@kikototapolca.hu
SUMMARY:Évtervező\, éválmodó műhely Julcsival
DESCRIPTION:Minden új év és minden új nap egy újabb lehetőség! \nGyere Te is\, csatlakozz a workshopra és álmodd meg az előtted álló évet!\n\n\nÉn magam nehezen tervezek fél évnél tovább\, és úgy gondolom nem is feltétlenül szükséges mindig. A 40-hez közeledve most mégis úgy érzem\, hogy szeretnék tudatosabban ránézni az előttem álló 12 hónapra.\nEzért most tervezésre és álmodozásra hívlak\, az Új év\, 4. napján! A száraz tények\, időpontok betervezése helyett -amelyek engem sokszor megijesztenek\, szorongó érzést keltenek bennem- álmod(oz)ni\, és manifesztáli fogunk; alkotni\, teremteni a gondolataink\, szavaink és kezeink erejével.\nSzárnyalni hívlak\, hogy előkészítsd magad álmaid\, vágyaid megteremtésére!\n\nMi történik a műheyen?\nA workshop elején ászana gyakorlással hagyjuk magunk mögött az elmúlt évet\, majd mélyrelaxációban álmodjuk meg a jövőt.\nEzután e kettő hatását kihasználva fogjuk az Éválmodó könyvbe magunk elé rajzolni/írni a látottakat és elképzelteket!\n\nMi az Éválmodó könyv? \nEgy általam szerkesztett teremtő munkafüzet\, melyhez az inspirációt a YearCompass adta.\nHa ismered az évről évre megjelenő\, letölthető YearCompass-t\, akkor ez is tetszeni fog!\n\nSzeretettel várlak\, kortól\, nemtől függetlenül erre a pompás 3 órára!\n\nFontos infók: \nIdőpont: 2025.01.04. 10:00-13:00\nHelyszín: Kikötő Tapolca\, Tapolca\, Fő tér 11. 1. emelet\nHozzájárulás: 2024. december 30-ig 8500.-ft\, december 31-től és workshop napján 9500.-ft\nMinimum létszám 4 fő\, maximum 10 fő!\nA workshop díja tartalmazza a szines\, nyomtatott Éválmodó munkafüzetet is és meg fogod kapni a relaxáció felvételét is!\n\nA workshopot én\, Halmos Júlia tartom\, hatha-\, gerinc-\, kismama- és babás jóga oktató\, képzés vezető\, dúla\, MBCP Mindfulness Meditációs tanár\nRólam itt tudsz olvasni: https://www.youliayoga.com/halmos-julia\n\nJelentkezz itt alább\, vagy nálam üzenetben\, e-mailben: youliayoga@gmail.com
URL:https://kikototapolca.hu/event/evkezdo-evalmodo-muhely-julcsival/
LOCATION:Kikötő\, Deák Ferenc utca 9.\, Tapolca\, Hungary
CATEGORIES:műhely
ATTACH;FMTTYPE=image/png:https://kikototapolca.hu/wp-content/uploads/2024/12/Novemberi-lassulo.zip-2.png
END:VEVENT
END:VCALENDAR