BEGIN:VCALENDAR
VERSION:2.0
PRODID:-//Kik&ouml;tő Tapolca - ECPv6.15.20//NONSGML v1.0//EN
CALSCALE:GREGORIAN
METHOD:PUBLISH
X-WR-CALNAME:Kik&ouml;tő Tapolca
X-ORIGINAL-URL:https://kikototapolca.hu
X-WR-CALDESC:Események Kik&ouml;tő Tapolca
REFRESH-INTERVAL;VALUE=DURATION:PT1H
X-Robots-Tag:noindex
X-PUBLISHED-TTL:PT1H
BEGIN:VTIMEZONE
TZID:Europe/Paris
BEGIN:DAYLIGHT
TZOFFSETFROM:+0100
TZOFFSETTO:+0200
TZNAME:CEST
DTSTART:20230326T010000
END:DAYLIGHT
BEGIN:STANDARD
TZOFFSETFROM:+0200
TZOFFSETTO:+0100
TZNAME:CET
DTSTART:20231029T010000
END:STANDARD
BEGIN:DAYLIGHT
TZOFFSETFROM:+0100
TZOFFSETTO:+0200
TZNAME:CEST
DTSTART:20240331T010000
END:DAYLIGHT
BEGIN:STANDARD
TZOFFSETFROM:+0200
TZOFFSETTO:+0100
TZNAME:CET
DTSTART:20241027T010000
END:STANDARD
BEGIN:DAYLIGHT
TZOFFSETFROM:+0100
TZOFFSETTO:+0200
TZNAME:CEST
DTSTART:20250330T010000
END:DAYLIGHT
BEGIN:STANDARD
TZOFFSETFROM:+0200
TZOFFSETTO:+0100
TZNAME:CET
DTSTART:20251026T010000
END:STANDARD
END:VTIMEZONE
BEGIN:VTIMEZONE
TZID:UTC
BEGIN:STANDARD
TZOFFSETFROM:+0000
TZOFFSETTO:+0000
TZNAME:UTC
DTSTART:20230101T000000
END:STANDARD
END:VTIMEZONE
BEGIN:VEVENT
DTSTART;TZID=Europe/Paris:20240322T100000
DTEND;TZID=Europe/Paris:20240322T170000
DTSTAMP:20260423T110947
CREATED:20240104T175848Z
LAST-MODIFIED:20240104T180253Z
UID:16852-1711101600-1711126800@kikototapolca.hu
SUMMARY:Egyéni családállítás Juhász Nórával
DESCRIPTION:Kedves Jelentkező\, Kedves Érdeklődő! \nMiben segít a családállítás? \n– párkapcsolati problémáknál\,\n– ha nem találod a helyed az életedben\,\n– anyagi problémák\, elakadások esetén\n– szülő- gyermek viszony rendezése során\,\n– emberi- munkahelyi konfliktusoknál\,\n– gyermekvállalással kapcsolatos problémák esetén\,\n– visszatérő helyzetek\, működési módok hátterében rejlő dinamikák felismerésében\,\n– lelki blokkok feloldásában. \nA legfontosabb az a téma\, melyben Te érzed az elakadást\, blokkot\, és szükséged lenne segítségre a továbblépéshez. \n✔ Az állítás során feloldhatunk lelki blokkokat\, megszűnhetnek elakadások\, helyére kerülhetnek lelked darabkái.\n✔ Segít megszabadulni a régóta cipelt terhektől a személyes életedben\, melyek a családi múltban gyökereznek.\n✔ A családállítás során lehetőségünk nyílik\, hogy a lélek mélyén megbúvó érzéseket\, folyamatokat a felszínre hozzuk.\n✔ Felismerjük a tudatalattink mélyén rejlő kapcsolati mintákat. Családi rendszerünk mélyén rejlő igazságokat. \nCélom\, hogy feloldjuk az elakadt energiaáramlást\, elindulhass az elhozott szándékod felé\, a megoldás irányába.\nSzeretettel várlak a Térben állítónak vagy segítőnek. \nLehetőség van\n– csoportos családállításra\n– egyéni konzultációra\n– Veszprémben\, Győrben\, Tapolcán \nÁrak:\nCsoportos családállítás\n-témahozó (állítói) díja: 22.000 Ft\n-képviselő díja: 5.000 Ft\nEgyéni családállítás díja: 25.000 Ft / alkalom /fő/1\,5-2 óra\nAz árak 2022.04 . – től visszavonásig érvényesek \nBejelentkezés:\nKérlek\, jelezd egy külön üzenetben – junoiy@gmail.com\, – vagy a 06/30-198-95-98-as telefonszámon a részvételi igényedet. \nFontos: a családfelállítás önismereti munka\, nem helyettesíti a pszichoterápiát. \nKérdéssel keress bizalommal! \nSzeretettel\nJuhász Nóra
URL:https://kikototapolca.hu/event/egyeni-csaladallitas-juhasz-noraval-4/
LOCATION:Kikötő\, Deák Ferenc utca 9.\, Tapolca\, Hungary
CATEGORIES:családállítás,önismeret
ATTACH;FMTTYPE=image/jpeg:https://kikototapolca.hu/wp-content/uploads/2024/01/Kikoto-Fb-28.jpg
ORGANIZER;CN="Juh%C3%A1sz N%C3%B3ra":MAILTO:junoiy@gmail.com
END:VEVENT
BEGIN:VEVENT
DTSTART;TZID=Europe/Paris:20240301T100000
DTEND;TZID=Europe/Paris:20240301T170000
DTSTAMP:20260423T110947
CREATED:20240104T175731Z
LAST-MODIFIED:20240210T083535Z
UID:16846-1709287200-1709312400@kikototapolca.hu
SUMMARY:Egyéni családállítás Juhász Nórával
DESCRIPTION:Kedves Jelentkező\, Kedves Érdeklődő! \nMiben segít a családállítás? \n– párkapcsolati problémáknál\,\n– ha nem találod a helyed az életedben\,\n– anyagi problémák\, elakadások esetén\n– szülő- gyermek viszony rendezése során\,\n– emberi- munkahelyi konfliktusoknál\,\n– gyermekvállalással kapcsolatos problémák esetén\,\n– visszatérő helyzetek\, működési módok hátterében rejlő dinamikák felismerésében\,\n– lelki blokkok feloldásában. \nA legfontosabb az a téma\, melyben Te érzed az elakadást\, blokkot\, és szükséged lenne segítségre a továbblépéshez. \n✔ Az állítás során feloldhatunk lelki blokkokat\, megszűnhetnek elakadások\, helyére kerülhetnek lelked darabkái.\n✔ Segít megszabadulni a régóta cipelt terhektől a személyes életedben\, melyek a családi múltban gyökereznek.\n✔ A családállítás során lehetőségünk nyílik\, hogy a lélek mélyén megbúvó érzéseket\, folyamatokat a felszínre hozzuk.\n✔ Felismerjük a tudatalattink mélyén rejlő kapcsolati mintákat. Családi rendszerünk mélyén rejlő igazságokat. \nCélom\, hogy feloldjuk az elakadt energiaáramlást\, elindulhass az elhozott szándékod felé\, a megoldás irányába.\nSzeretettel várlak a Térben állítónak vagy segítőnek. \nLehetőség van\n– csoportos családállításra\n– egyéni konzultációra\n– Veszprémben\, Győrben\, Tapolcán \nÁrak:\nCsoportos családállítás\n-témahozó (állítói) díja: 22.000 Ft\n-képviselő díja: 5.000 Ft\nEgyéni családállítás díja: 25.000 Ft / alkalom /fő/1\,5-2 óra\nAz árak 2022.04 . – től visszavonásig érvényesek \nBejelentkezés:\nKérlek\, jelezd egy külön üzenetben – junoiy@gmail.com\, – vagy a 06/30-198-95-98-as telefonszámon a részvételi igényedet. \nVagy az alábbi foglaló rendszeren keresztül: \n\n\n\n    \n\n\n\n\n    \n\n  \nFontos: a családfelállítás önismereti munka\, nem helyettesíti a pszichoterápiát. \nKérdéssel keress bizalommal! \nSzeretettel\nJuhász Nóra
URL:https://kikototapolca.hu/event/egyeni-csaladallitas-juhasz-noraval-3/
LOCATION:Kikötő\, Deák Ferenc utca 9.\, Tapolca\, Hungary
CATEGORIES:családállítás,önismeret
ATTACH;FMTTYPE=image/jpeg:https://kikototapolca.hu/wp-content/uploads/2024/01/Kikoto-Fb-28.jpg
ORGANIZER;CN="Juh%C3%A1sz N%C3%B3ra":MAILTO:junoiy@gmail.com
END:VEVENT
BEGIN:VEVENT
DTSTART;TZID=Europe/Paris:20240216T100000
DTEND;TZID=Europe/Paris:20240216T170000
DTSTAMP:20260423T110947
CREATED:20240104T175501Z
LAST-MODIFIED:20240210T082919Z
UID:16840-1708077600-1708102800@kikototapolca.hu
SUMMARY:Egyéni családállítás Juhász Nórával
DESCRIPTION:Kedves Jelentkező\, Kedves Érdeklődő! \nMiben segít a családállítás? \n– párkapcsolati problémáknál\,\n– ha nem találod a helyed az életedben\,\n– anyagi problémák\, elakadások esetén\n– szülő- gyermek viszony rendezése során\,\n– emberi- munkahelyi konfliktusoknál\,\n– gyermekvállalással kapcsolatos problémák esetén\,\n– visszatérő helyzetek\, működési módok hátterében rejlő dinamikák felismerésében\,\n– lelki blokkok feloldásában. \nA legfontosabb az a téma\, melyben Te érzed az elakadást\, blokkot\, és szükséged lenne segítségre a továbblépéshez. \n✔ Az állítás során feloldhatunk lelki blokkokat\, megszűnhetnek elakadások\, helyére kerülhetnek lelked darabkái.\n✔ Segít megszabadulni a régóta cipelt terhektől a személyes életedben\, melyek a családi múltban gyökereznek.\n✔ A családállítás során lehetőségünk nyílik\, hogy a lélek mélyén megbúvó érzéseket\, folyamatokat a felszínre hozzuk.\n✔ Felismerjük a tudatalattink mélyén rejlő kapcsolati mintákat. Családi rendszerünk mélyén rejlő igazságokat. \nCélom\, hogy feloldjuk az elakadt energiaáramlást\, elindulhass az elhozott szándékod felé\, a megoldás irányába.\nSzeretettel várlak a Térben állítónak vagy segítőnek. \nLehetőség van\n– csoportos családállításra\n– egyéni konzultációra\n– Veszprémben\, Győrben\, Tapolcán \nÁrak:\nCsoportos családállítás\n-témahozó (állítói) díja: 22.000 Ft\n-képviselő díja: 5.000 Ft\nEgyéni családállítás díja: 25.000 Ft / alkalom /fő/1\,5-2 óra\nAz árak 2022.04 . – től visszavonásig érvényesek \nBejelentkezés:\nKérlek\, jelezd egy külön üzenetben – junoiy@gmail.com\, – vagy a 06/30-198-95-98-as telefonszámon a részvételi igényedet.\nVagy használd az alábbi foglaló rendszert: \n\n\n\n    \n\n\n\n\n    \n\n\n\n\n    \n\n\n\n\n    \n\nFontos: a családfelállítás önismereti munka\, nem helyettesíti a pszichoterápiát. \nKérdéssel keress bizalommal! \nSzeretettel\nJuhász Nóra
URL:https://kikototapolca.hu/event/egyeni-csaladallitas-juhasz-noraval-2/
LOCATION:Kikötő\, Deák Ferenc utca 9.\, Tapolca\, Hungary
CATEGORIES:családállítás,önismeret
ATTACH;FMTTYPE=image/jpeg:https://kikototapolca.hu/wp-content/uploads/2024/01/Kikoto-Fb-28.jpg
ORGANIZER;CN="Juh%C3%A1sz N%C3%B3ra":MAILTO:junoiy@gmail.com
END:VEVENT
BEGIN:VEVENT
DTSTART;TZID=UTC:20240202T100000
DTEND;TZID=UTC:20240202T190000
DTSTAMP:20260423T110947
CREATED:20231231T153033Z
LAST-MODIFIED:20240130T112540Z
UID:16698-1706868000-1706900400@kikototapolca.hu
SUMMARY:BETELT - Egyéni családállítás Juhász Nórával
DESCRIPTION:Kedves Jelentkező\, Kedves Érdeklődő! \nMiben segít a családállítás? \n– párkapcsolati problémáknál\,\n– ha nem találod a helyed az életedben\,\n– anyagi problémák\, elakadások esetén\n– szülő- gyermek viszony rendezése során\,\n– emberi- munkahelyi konfliktusoknál\,\n– gyermekvállalással kapcsolatos problémák esetén\,\n– visszatérő helyzetek\, működési módok hátterében rejlő dinamikák felismerésében\,\n– lelki blokkok feloldásában. \nA legfontosabb az a téma\, melyben Te érzed az elakadást\, blokkot\, és szükséged lenne segítségre a továbblépéshez. \n✔ Az állítás során feloldhatunk lelki blokkokat\, megszűnhetnek elakadások\, helyére kerülhetnek lelked darabkái.\n✔ Segít megszabadulni a régóta cipelt terhektől a személyes életedben\, melyek a családi múltban gyökereznek.\n✔ A családállítás során lehetőségünk nyílik\, hogy a lélek mélyén megbúvó érzéseket\, folyamatokat a felszínre hozzuk.\n✔ Felismerjük a tudatalattink mélyén rejlő kapcsolati mintákat. Családi rendszerünk mélyén rejlő igazságokat. \nCélom\, hogy feloldjuk az elakadt energiaáramlást\, elindulhass az elhozott szándékod felé\, a megoldás irányába.\nSzeretettel várlak a Térben állítónak vagy segítőnek. \nLehetőség van\n– csoportos családállításra\n– egyéni konzultációra\n– Veszprémben\, Győrben\, Tapolcán \nÁrak:\nCsoportos családállítás\n-témahozó (állítói) díja: 22.000 Ft\n-képviselő díja: 5.000 Ft\nEgyéni családállítás díja: 25.000 Ft / alkalom /fő/1\,5-2 óra\nAz árak 2022.04 . – től visszavonásig érvényesek \nBejelentkezés:\nKérlek\, jelezd egy külön üzenetben – junoiy@gmail.com\, – vagy a 06/30-198-95-98-as telefonszámon a részvételi igényedet. \nFontos: a családfelállítás önismereti munka\, nem helyettesíti a pszichoterápiát. \nKérdéssel keress bizalommal! \nSzeretettel\nJuhász Nóra
URL:https://kikototapolca.hu/event/egyeni-csaladallitas-juhasz-noraval/
LOCATION:Kikötő\, Deák Ferenc utca 9.\, Tapolca\, Hungary
CATEGORIES:családállítás,önismeret
ATTACH;FMTTYPE=image/jpeg:https://kikototapolca.hu/wp-content/uploads/2024/01/Kikoto-Fb-28.jpg
ORGANIZER;CN="Juh%C3%A1sz N%C3%B3ra":MAILTO:junoiy@gmail.com
END:VEVENT
END:VCALENDAR