BEGIN:VCALENDAR
VERSION:2.0
PRODID:-//Kik&ouml;tő Tapolca - ECPv6.15.20//NONSGML v1.0//EN
CALSCALE:GREGORIAN
METHOD:PUBLISH
X-ORIGINAL-URL:https://kikototapolca.hu
X-WR-CALDESC:Események Kik&ouml;tő Tapolca
REFRESH-INTERVAL;VALUE=DURATION:PT1H
X-Robots-Tag:noindex
X-PUBLISHED-TTL:PT1H
BEGIN:VTIMEZONE
TZID:Europe/Paris
BEGIN:DAYLIGHT
TZOFFSETFROM:+0100
TZOFFSETTO:+0200
TZNAME:CEST
DTSTART:20230326T010000
END:DAYLIGHT
BEGIN:STANDARD
TZOFFSETFROM:+0200
TZOFFSETTO:+0100
TZNAME:CET
DTSTART:20231029T010000
END:STANDARD
BEGIN:DAYLIGHT
TZOFFSETFROM:+0100
TZOFFSETTO:+0200
TZNAME:CEST
DTSTART:20240331T010000
END:DAYLIGHT
BEGIN:STANDARD
TZOFFSETFROM:+0200
TZOFFSETTO:+0100
TZNAME:CET
DTSTART:20241027T010000
END:STANDARD
BEGIN:DAYLIGHT
TZOFFSETFROM:+0100
TZOFFSETTO:+0200
TZNAME:CEST
DTSTART:20250330T010000
END:DAYLIGHT
BEGIN:STANDARD
TZOFFSETFROM:+0200
TZOFFSETTO:+0100
TZNAME:CET
DTSTART:20251026T010000
END:STANDARD
END:VTIMEZONE
BEGIN:VEVENT
DTSTART;TZID=Europe/Paris:20241215T150000
DTEND;TZID=Europe/Paris:20241215T163000
DTSTAMP:20260420T232218
CREATED:20241116T155409Z
LAST-MODIFIED:20241116T155645Z
UID:18342-1734274800-1734280200@kikototapolca.hu
SUMMARY:Adventi meditáció - ingyenes
DESCRIPTION:2024. december 15-én délután 15:00-kor találkozunk a Kikötőben egy adventi gyertyagyújtással egybekötött meditációra.  \nAz advent igazi lényege a várakozás\, annak a megélése és felfedezése\, ahogy bennünk megszületik a fény.\nErre hívunk ezen a délutánon: ahogy meggyújtjuk a 3. gyertyát a koszorún\, úgy figyeljük bennünk is a növekvő fényt. \nRövid átmozgatás\, légzés és relaxáció előzi meg a meditációnkat. \nA program ingyenes\, de regisztrációhoz kötött.\nVezeti: Ryszka Nóra jógaterapeuta \nSzeretettel várunk! \nBejelentkezés:
URL:https://kikototapolca.hu/event/adventi-meditacio-ingyenes/
LOCATION:Kikötő\, Deák Ferenc utca 9.\, Tapolca\, Hungary
CATEGORIES:meditáció
ATTACH;FMTTYPE=image/jpeg:https://kikototapolca.hu/wp-content/uploads/2024/11/Kikoto-Fb-poszt-2024-okt-3.jpg
ORGANIZER;CN="Ryszka N%C3%B3ra":MAILTO:hello@kikototapolca.hu
END:VEVENT
BEGIN:VEVENT
DTSTART;TZID=Europe/Paris:20241212T090000
DTEND;TZID=Europe/Paris:20241212T120000
DTSTAMP:20260420T232218
CREATED:20241116T160541Z
LAST-MODIFIED:20241117T144422Z
UID:18348-1733994000-1734004800@kikototapolca.hu
SUMMARY:Adventi csendfürdő
DESCRIPTION:Szeretnél megtapasztalni\, hogy milyen az\, amikor nem kérdeznek tőled és nem is kell válaszolnod?\nJól esne egy kis töltődési idő az adventi forgatagban?\nSzeretnéd tudni\, hogy milyen a vezetett csend? \nAkkor itt a helyed! \nA három órás műhely alatt a résztvevők nem beszélnek\, nincs csevegés az öltözőben\, sem a műhely előtt\, sem utána.\nA telefonokat lenémítva az öltözőben hagyjuk\, és igyekszünk minimálisra csökkenteni az interakciókat. \nA program nem egy üres csend\, hanem vezetett\, mert elsőre ez jobban segíti a befelé figyelést\, az elme hullámainak csendesülését.\nA műhely alatt lesz jóga\, légzés\, jóga nidra\, csendes teázás és meditáció is.\nMinden azt a célt szolgálja\, hogy sikerüljön befelé figyelned\, lépni egyet a csendes\, békés\, örökkévaló állapot felé. \nA programot vezeti: Ryszka Nóra jógaterapeuta \nÁr: 5.000 Ft vagy 2 alkalom a jógabérletből\nMinimum létszám: 3 fő \nBejelentkezés: \n\n\n\n    \n\n 
URL:https://kikototapolca.hu/event/adventi-csendfurdo/
CATEGORIES:csend,csendfürdő
ATTACH;FMTTYPE=image/jpeg:https://kikototapolca.hu/wp-content/uploads/2024/11/Kikoto-Fb-poszt-2024-okt-4.jpg
END:VEVENT
END:VCALENDAR